

BEGIN:VCALENDAR
VERSION:2.0
PRODID:-//hacksw/handcal//NONSGML v1.0//EN
CALSCALE:GREGORIAN
BEGIN:VEVENT
DTEND:20190612T203000
UID:5c76e1bac17f5
DTSTAMP:20190228T061506
LOCATION:The Downs Club Cnr Margaret & Mylne Streets Toowoomba 4350 QLD
DESCRIPTION:
URL;VALUE=URI:http://therotaryclub.com.au/event/37327
SUMMARY:Club Meeting
DTSTART:20190612T180000
END:VEVENT
END:VCALENDAR

