

BEGIN:VCALENDAR
VERSION:2.0
PRODID:-//hacksw/handcal//NONSGML v1.0//EN
CALSCALE:GREGORIAN
BEGIN:VEVENT
DTEND:20180711T201500
UID:5c76e33c996ed
DTSTAMP:20190228T062132
LOCATION:The Downs Club Cnr Margaret & Mylne Streets Toowoomba 4350 QLD
DESCRIPTION:
URL;VALUE=URI:http://therotaryclub.com.au/event/34111
SUMMARY:Club Meeting
DTSTART:20180711T180000
END:VEVENT
END:VCALENDAR

