

BEGIN:VCALENDAR
VERSION:2.0
PRODID:-//hacksw/handcal//NONSGML v1.0//EN
CALSCALE:GREGORIAN
BEGIN:VEVENT
DTEND:20171014T190000
UID:5c76e285d042c
DTSTAMP:20190228T061829
LOCATION:Goombungee Golf Club Golf Course Road Goombungee 4354 QLD
DESCRIPTION:
URL;VALUE=URI:http://therotaryclub.com.au/event/26965
SUMMARY:Goombungee Charity Golf Day
DTSTART:20171014T070000
END:VEVENT
END:VCALENDAR

