

BEGIN:VCALENDAR
VERSION:2.0
PRODID:-//hacksw/handcal//NONSGML v1.0//EN
CALSCALE:GREGORIAN
BEGIN:VEVENT
DTEND:20170705T210000
UID:5c76e296c6b8a
DTSTAMP:20190228T061846
LOCATION:Inbound Restaurant Toowoomba Train Station\, Station Street Toowoomba 4350 QLD
DESCRIPTION:
URL;VALUE=URI:http://therotaryclub.com.au/event/25718
SUMMARY:Change Over Dinner
DTSTART:20170705T180000
END:VEVENT
END:VCALENDAR

