

BEGIN:VCALENDAR
VERSION:2.0
PRODID:-//hacksw/handcal//NONSGML v1.0//EN
CALSCALE:GREGORIAN
BEGIN:VEVENT
DTEND:20170604T143000
UID:5c76e2a1dcb87
DTSTAMP:20190228T061857
LOCATION:The Australian Hotel Cnr Terrace & Grey Streets St George  QLD
DESCRIPTION:
URL;VALUE=URI:http://therotaryclub.com.au/event/25717
SUMMARY:Western District Assembly
DTSTART:20170604T084500
END:VEVENT
END:VCALENDAR

