

BEGIN:VCALENDAR
VERSION:2.0
PRODID:-//hacksw/handcal//NONSGML v1.0//EN
CALSCALE:GREGORIAN
BEGIN:VEVENT
DTEND:20170510T180000
UID:5c76e2bfed38b
DTSTAMP:20190228T061927
LOCATION:Regents On The Lake 87a Perth Street Toowoomba 4350 QLD
DESCRIPTION:
URL;VALUE=URI:http://therotaryclub.com.au/event/25705
SUMMARY:No Club Meeting
DTSTART:20170510T180000
END:VEVENT
END:VCALENDAR

