

BEGIN:VCALENDAR
VERSION:2.0
PRODID:-//hacksw/handcal//NONSGML v1.0//EN
CALSCALE:GREGORIAN
BEGIN:VEVENT
DTEND:20170503T201500
UID:5c76e2e03cc32
DTSTAMP:20190228T062000
LOCATION:Regents On The Lake 87a Perth Street Toowoomba 4350 QLD
DESCRIPTION:
URL;VALUE=URI:http://therotaryclub.com.au/event/25704
SUMMARY:Club Meeting
DTSTART:20170503T180000
END:VEVENT
END:VCALENDAR

